BEGIN:VCALENDAR
VERSION:2.0
PRODID:-//www.avahealth.org//NONSGML kigkonsult.se iCalcreator 2.30.10//
CALSCALE:GREGORIAN
METHOD:PUBLISH
UID:78cca7e0-fbc9-44e4-8afb-eac575180f30
X-WR-CALDESC:
X-WR-RELCALID:bdaf5b31daaf83652b660a6c1895dc8c
X-WR-TIMEZONE:America/Chicago
BEGIN:VTIMEZONE
TZID:America/Chicago
BEGIN:STANDARD
TZNAME:CST
DTSTART:20241103T020000
TZOFFSETFROM:-0500
TZOFFSETTO:-0600
RDATE:20251102T020000
RDATE:20261101T020000
END:STANDARD
BEGIN:DAYLIGHT
TZNAME:CDT
DTSTART:20250309T020000
TZOFFSETFROM:-0600
TZOFFSETTO:-0500
RDATE:20260308T020000
END:DAYLIGHT
END:VTIMEZONE
BEGIN:VEVENT
UID:46a931ef-c8f6-478b-9115-e2f06f255319
DTSTAMP:20260421T141233Z
DESCRIPTION:
DTSTART;TZID=America/Chicago:20250815T083000
DTEND;TZID=America/Chicago:20250815T093000
LOCATION:
SUMMARY:Faculty Development Call
END:VEVENT
END:VCALENDAR
