BEGIN:VCALENDAR
VERSION:2.0
PRODID:-//www.avahealth.org//NONSGML kigkonsult.se iCalcreator 2.30.10//
CALSCALE:GREGORIAN
METHOD:PUBLISH
UID:fbb2d045-6bef-4d3b-9019-42d629faa17d
X-WR-CALDESC:Williams Building Global Health Summit Locations:\nBoardroom\n
 223A & 223B\n238A \n238B
X-WR-RELCALID:64913c79399995fcde47a0e3db5aeb69
X-WR-TIMEZONE:America/Chicago
BEGIN:VTIMEZONE
TZID:America/Chicago
BEGIN:STANDARD
TZNAME:CST
DTSTART:20251102T020000
TZOFFSETFROM:-0500
TZOFFSETTO:-0600
RDATE:20261101T020000
END:STANDARD
BEGIN:DAYLIGHT
TZNAME:CDT
DTSTART:20250309T020000
TZOFFSETFROM:-0600
TZOFFSETTO:-0500
RDATE:20260308T020000
RDATE:20270314T020000
END:DAYLIGHT
END:VTIMEZONE
BEGIN:VEVENT
UID:66df2bb9-31fe-4da0-8c0e-f92ecfa760f3
DTSTAMP:20260421T095322Z
DESCRIPTION:Williams Building Global Health Summit Locations:\nBoardroom\n2
 23A & 223B\n238A \n238B
DTSTART;TZID=America/Chicago:20251106T073000
DTEND;TZID=America/Chicago:20251107T160000
LOCATION:Williams Building\, 295 Chipeta Way\, SLC\, UT 84108
SUMMARY:Global Health Summit - Salt Lake City 2025
END:VEVENT
END:VCALENDAR
